BEGIN:VCALENDAR
VERSION:2.0
PRODID:-//heimatler.de - ECPv6.15.20//NONSGML v1.0//EN
CALSCALE:GREGORIAN
METHOD:PUBLISH
X-WR-CALNAME:heimatler.de
X-ORIGINAL-URL:https://www.heimatler.de
X-WR-CALDESC:Veranstaltungen für heimatler.de
REFRESH-INTERVAL;VALUE=DURATION:PT1H
X-Robots-Tag:noindex
X-PUBLISHED-TTL:PT1H
BEGIN:VTIMEZONE
TZID:Europe/Berlin
BEGIN:DAYLIGHT
TZOFFSETFROM:+0100
TZOFFSETTO:+0200
TZNAME:CEST
DTSTART:20250330T010000
END:DAYLIGHT
BEGIN:STANDARD
TZOFFSETFROM:+0200
TZOFFSETTO:+0100
TZNAME:CET
DTSTART:20251026T010000
END:STANDARD
BEGIN:DAYLIGHT
TZOFFSETFROM:+0100
TZOFFSETTO:+0200
TZNAME:CEST
DTSTART:20260329T010000
END:DAYLIGHT
BEGIN:STANDARD
TZOFFSETFROM:+0200
TZOFFSETTO:+0100
TZNAME:CET
DTSTART:20261025T010000
END:STANDARD
BEGIN:DAYLIGHT
TZOFFSETFROM:+0100
TZOFFSETTO:+0200
TZNAME:CEST
DTSTART:20270328T010000
END:DAYLIGHT
BEGIN:STANDARD
TZOFFSETFROM:+0200
TZOFFSETTO:+0100
TZNAME:CET
DTSTART:20271031T010000
END:STANDARD
END:VTIMEZONE
BEGIN:VEVENT
DTSTART;TZID=Europe/Berlin:20260425T130000
DTEND;TZID=Europe/Berlin:20260425T160000
DTSTAMP:20260420T120401
CREATED:20260312T090551Z
LAST-MODIFIED:20260312T090551Z
UID:1056-1777122000-1777132800@www.heimatler.de
SUMMARY:Günztalwanderung zu Blumen und zur historischen Säge
DESCRIPTION:Günztalwanderung zu Blumen mit Walter Lorenz und zur historischen Säge Liebenthann mit Luis Boppeler. \nTreffpunkt Parkplatz Kläranlage (Notz)
URL:https://www.heimatler.de/event/guenztalwanderung-zu-blumen-und-zur-historischen-saege/
LOCATION:Parkplatz Kläranlage
END:VEVENT
BEGIN:VEVENT
DTSTART;TZID=Europe/Berlin:20260429T193000
DTEND;TZID=Europe/Berlin:20260429T210000
DTSTAMP:20260420T120401
CREATED:20260312T090743Z
LAST-MODIFIED:20260312T090743Z
UID:1059-1777491000-1777496400@www.heimatler.de
SUMMARY:Stammtisch des AKH
DESCRIPTION:
URL:https://www.heimatler.de/event/stammtisch-des-akh/
LOCATION:Akku Treff
END:VEVENT
BEGIN:VEVENT
DTSTART;TZID=Europe/Berlin:20260527T193000
DTEND;TZID=Europe/Berlin:20260527T210000
DTSTAMP:20260420T120401
CREATED:20260312T091006Z
LAST-MODIFIED:20260312T091006Z
UID:1061-1779910200-1779915600@www.heimatler.de
SUMMARY:Vollversammlung des AKH
DESCRIPTION:
URL:https://www.heimatler.de/event/vollversammlung-des-akh/
LOCATION:Goldenen Hirsch
END:VEVENT
BEGIN:VEVENT
DTSTART;TZID=Europe/Berlin:20260530T130000
DTEND;TZID=Europe/Berlin:20260530T160000
DTSTAMP:20260420T120401
CREATED:20260312T091317Z
LAST-MODIFIED:20260312T093319Z
UID:1064-1780146000-1780156800@www.heimatler.de
SUMMARY:Exkursion mit Johann Krempl
DESCRIPTION:Exkursion mit Johann Krempl nach Apfeltrang \nTreffpunkt zur Fahrgemeinschaft auf der Rößle Wiese
URL:https://www.heimatler.de/event/exkursion/
LOCATION:Obergünzburg\, Rösslewiese 1
END:VEVENT
BEGIN:VEVENT
DTSTART;TZID=Europe/Berlin:20260624T193000
DTEND;TZID=Europe/Berlin:20260624T210000
DTSTAMP:20260420T120401
CREATED:20260312T091503Z
LAST-MODIFIED:20260312T091503Z
UID:1066-1782329400-1782334800@www.heimatler.de
SUMMARY:Stammtisch
DESCRIPTION:
URL:https://www.heimatler.de/event/stammtisch/
LOCATION:Goldenen Hirsch
END:VEVENT
BEGIN:VEVENT
DTSTART;TZID=Europe/Berlin:20260729T193000
DTEND;TZID=Europe/Berlin:20260729T210000
DTSTAMP:20260420T120401
CREATED:20260312T091646Z
LAST-MODIFIED:20260312T091646Z
UID:1068-1785353400-1785358800@www.heimatler.de
SUMMARY:Vollversammlung
DESCRIPTION:
URL:https://www.heimatler.de/event/vollversammlung/
LOCATION:Goldenen Hirsch
END:VEVENT
BEGIN:VEVENT
DTSTART;TZID=Europe/Berlin:20260920T130000
DTEND;TZID=Europe/Berlin:20260920T170000
DTSTAMP:20260420T120401
CREATED:20260312T091829Z
LAST-MODIFIED:20260312T091829Z
UID:1070-1789909200-1789923600@www.heimatler.de
SUMMARY:Günztal Marktfest
DESCRIPTION:
URL:https://www.heimatler.de/event/guenztal-marktfest/
LOCATION:Marktplatz\, Obergünzburg
END:VEVENT
BEGIN:VEVENT
DTSTART;TZID=Europe/Berlin:20260930T193000
DTEND;TZID=Europe/Berlin:20260930T210000
DTSTAMP:20260420T120401
CREATED:20260312T091934Z
LAST-MODIFIED:20260312T091934Z
UID:1072-1790796600-1790802000@www.heimatler.de
SUMMARY:Vollversammlung
DESCRIPTION:
URL:https://www.heimatler.de/event/vollversammlung-2/
LOCATION:Goldenen Hirsch
END:VEVENT
BEGIN:VEVENT
DTSTART;TZID=Europe/Berlin:20261003T130000
DTEND;TZID=Europe/Berlin:20261003T170000
DTSTAMP:20260420T120401
CREATED:20260312T092259Z
LAST-MODIFIED:20260312T092259Z
UID:1074-1791032400-1791046800@www.heimatler.de
SUMMARY:Ausflug zur Streuobstwiese
DESCRIPTION:Ausflug zur Streuobstwiese von J. Rauh nach Finstersteig \nTreffpunkt am Alten Markt\, Höhe Cafe Central für Fahrgemeinschaften
URL:https://www.heimatler.de/event/ausflug-zur-streuobstwiese/
LOCATION:Alter Markt\, Obergünzburg
END:VEVENT
BEGIN:VEVENT
DTSTART;TZID=Europe/Berlin:20261028T193000
DTEND;TZID=Europe/Berlin:20261028T210000
DTSTAMP:20260420T120401
CREATED:20260312T092416Z
LAST-MODIFIED:20260312T092416Z
UID:1077-1793215800-1793221200@www.heimatler.de
SUMMARY:Stammtisch
DESCRIPTION:
URL:https://www.heimatler.de/event/stammtisch-2/
LOCATION:Goldenen Hirsch
END:VEVENT
BEGIN:VEVENT
DTSTART;TZID=Europe/Berlin:20261125T193000
DTEND;TZID=Europe/Berlin:20261125T210000
DTSTAMP:20260420T120401
CREATED:20260312T092628Z
LAST-MODIFIED:20260312T092628Z
UID:1079-1795635000-1795640400@www.heimatler.de
SUMMARY:Vortrag von Pit Eigler
DESCRIPTION:Vortrag von Pit Eigler über Wiedergänger & Co. \nim Goldenen Hirsch\, Fürstenzimmer
URL:https://www.heimatler.de/event/vortrag-von-pit-eigler/
LOCATION:Goldenen Hirsch
END:VEVENT
BEGIN:VEVENT
DTSTART;TZID=Europe/Berlin:20261204T180000
DTEND;TZID=Europe/Berlin:20261204T210000
DTSTAMP:20260420T120401
CREATED:20260312T092821Z
LAST-MODIFIED:20260312T092821Z
UID:1081-1796407200-1796418000@www.heimatler.de
SUMMARY:Weihnachtsmarkt
DESCRIPTION:
URL:https://www.heimatler.de/event/weihnachtsmarkt/
LOCATION:Marktplatz\, Obergünzburg
END:VEVENT
BEGIN:VEVENT
DTSTART;TZID=Europe/Berlin:20261205T170000
DTEND;TZID=Europe/Berlin:20261205T210000
DTSTAMP:20260420T120401
CREATED:20260312T092952Z
LAST-MODIFIED:20260312T092952Z
UID:1083-1796490000-1796504400@www.heimatler.de
SUMMARY:Weihnachtsmarkt
DESCRIPTION:
URL:https://www.heimatler.de/event/weihnachtsmarkt-2/
LOCATION:Marktplatz\, Obergünzburg
END:VEVENT
END:VCALENDAR